BEGIN:VCALENDAR
VERSION:2.0
PRODID:-//Squarespace Inc/Squarespace 6//v6//EN
BEGIN:VEVENT
UID:560742b9e4b0afe8da3c73b0@squarespace.com
DTSTAMP:20160925T224603Z
DTSTART:20161007T233000Z
DTEND:20161008T060000Z
SUMMARY:Ladbrokes Caulfield Guineas Day
GEO:-37.876904;145.038749
LOCATION:Caulfield Racecourse\, Gate 22 Station St\, Caulfield East\, Melbo
 urne\, VIC 3145\, Australia
END:VEVENT
END:VCALENDAR
