BEGIN:VCALENDAR
VERSION:2.0
PRODID:-//Squarespace Inc/Squarespace 6//v6//EN
BEGIN:VEVENT
UID:56074518e4b053dd4651b887@squarespace.com
DTSTAMP:20160925T224738Z
DTSTART:20161012T010000Z
DTEND:20161012T080000Z
SUMMARY:Catanach's Jewellers Blue Sapphire Stakes Day
GEO:-37.87781;145.042317
LOCATION:Caulfield Racecourse\, Gate 22 Station St\, Caulfield East\, Melbo
 urne\, VIC 3145\, Australia
END:VEVENT
END:VCALENDAR
