BEGIN:VCALENDAR
VERSION:2.0
PRODID:-//Squarespace Inc/Squarespace 6//v6//EN
BEGIN:VEVENT
UID:5608778de4b062e5cb99cb81@squarespace.com
DTSTAMP:20160925T224902Z
DTSTART:20161014T233000Z
DTEND:20161015T063000Z
SUMMARY:BMW Caulfield Cup Day
GEO:-37.876904;145.038749
LOCATION:Caulfield Racecourse\, Gate 22 Station St\,\, Caulfield East\, Mel
 bourne\, VIC 3145\, Australia
END:VEVENT
END:VCALENDAR
