BEGIN:VCALENDAR
VERSION:2.0
PRODID:-//Squarespace Inc/Squarespace 6//v6//EN
BEGIN:VEVENT
UID:56087bbfe4b01b1b8e13451e@squarespace.com
DTSTAMP:20160925T224320Z
DTSTART:20161001T003000Z
DTEND:20161001T073000Z
SUMMARY:Grand Final Race Day
GEO:-37.876904;145.038749
LOCATION:Caulfield Racecourse\, Gate 22 Station St\, Caulfield East\, Melbo
 urne\, VIC\, 3145\, Australia
END:VEVENT
END:VCALENDAR
