BEGIN:VCALENDAR
VERSION:2.0
PRODID:-//Squarespace Inc/Squarespace 6//v6//EN
BEGIN:VEVENT
UID:5608850ee4b017614f876894@squarespace.com
DTSTAMP:20160925T225021Z
DTSTART:20161028T233000Z
DTEND:20161029T083000Z
SUMMARY:AAMI Victoria Derby Day
GEO:-37.788278;144.908158
LOCATION:Flemington Racecourse\, 448 Epsom Road\, Flemington\, VIC\, 3031\, 
 Australia
END:VEVENT
END:VCALENDAR
