BEGIN:VCALENDAR
VERSION:2.0
PRODID:-//Squarespace Inc/Squarespace 6//v6//EN
BEGIN:VEVENT
UID:560880cee4b0a595ab166b34@squarespace.com
DTSTAMP:20160925T232908Z
DTSTART:20161002T000000Z
DTEND:20161002T063000Z
SUMMARY:Turnbull Stakes Day Presented by Yellowglen
GEO:-37.788278;144.908158
LOCATION:Flemington Racecourse\, 448 Epsom Road\, Flemington\, VIC\, 3031\, 
 Australia
END:VEVENT
END:VCALENDAR
