BEGIN:VCALENDAR
VERSION:2.0
PRODID:-//Squarespace Inc/Squarespace 6//v6//EN
BEGIN:VEVENT
UID:56087a9ae4b0fbb3746c7f5f@squarespace.com
DTSTAMP:20160925T225907Z
DTSTART:20161029T233000Z
DTEND:20161030T063000Z
SUMMARY:Ladbrokes Peninsula Cup Day
GEO:-38.235058;145.070995
LOCATION:Mornington Racecourse\, 320 Racecourse Rd\, Mornington\, VIC\, 393
 1\, Australia
END:VEVENT
END:VCALENDAR
