BEGIN:VCALENDAR
VERSION:2.0
PRODID:-//Squarespace Inc/Squarespace 6//v6//EN
BEGIN:VEVENT
UID:56087d80e4b06004c11d1324@squarespace.com
DTSTAMP:20160925T232055Z
DTSTART:20161111T233000Z
DTEND:20161112T063000Z
SUMMARY:Sandown Spring Carnival Race Day
GEO:-37.9442;145.168379
LOCATION:Sandown Racecourse\, 591-659 Princes Highway\, Springvale\, VIC\, 
 3171\, Australia
END:VEVENT
END:VCALENDAR
