BEGIN:VCALENDAR
VERSION:2.0
PRODID:-//Squarespace Inc/Squarespace 6//v6//EN
BEGIN:VEVENT
UID:560888bbe4b017614f877dad@squarespace.com
DTSTAMP:20160925T230131Z
DTSTART:20161031T233000Z
DTEND:20161101T063000Z
SUMMARY:Emirates Melbourne Cup Day
GEO:-37.788278;144.908158
LOCATION:Flemington Racecourse\, 448 Epsom Road\, Flemington\, VIC\, 3031\, 
 Australia
END:VEVENT
END:VCALENDAR
