BEGIN:VCALENDAR
VERSION:2.0
PRODID:-//Squarespace Inc/Squarespace 6//v6//EN
BEGIN:VEVENT
UID:56088b17e4b02efb267e30c0@squarespace.com
DTSTAMP:20160925T231659Z
DTSTART:20161102T233000Z
DTEND:20161103T063000Z
SUMMARY:Crown Oaks Day
GEO:-37.788278;144.908158
LOCATION:Flemington Racecourse\, 448 Epsom Road\, Flemington\, VIC\, 3031\, 
 Australia
END:VEVENT
END:VCALENDAR
