BEGIN:VCALENDAR
VERSION:2.0
PRODID:-//Squarespace Inc/Squarespace 6//v6//EN
BEGIN:VEVENT
UID:56088d71e4b08574a5b6bf6f@squarespace.com
DTSTAMP:20160925T231758Z
DTSTART:20161104T233000Z
DTEND:20161105T063000Z
SUMMARY:Emirates Stakes Day
GEO:-37.788278;144.908158
LOCATION:Flemington Racecourse\, 448 Epsom Road\, Flemington\, VIC\, 3031\, 
 Australia
END:VEVENT
END:VCALENDAR
