BEGIN:VCALENDAR
VERSION:2.0
PRODID:-//Squarespace Inc/Squarespace 6//v6//EN
BEGIN:VEVENT
UID:57e84c4bc534a547699b6100@squarespace.com
DTSTAMP:20160925T221841Z
DTSTART:20160930T220000Z
DTEND:20161001T030000Z
SUMMARY:Craft Markets - Red Hill
GEO:-38.368725;145.003491
LOCATION:Red Hill Market\, Arthurs Seat Road\, Red Hill\, VIC\, 3937\, Aust
 ralia
END:VEVENT
END:VCALENDAR
