BEGIN:VCALENDAR
VERSION:2.0
PRODID:-//Squarespace Inc/Squarespace 6//v6//EN
BEGIN:VEVENT
UID:57e84eacd2b857a31e1b16fa@squarespace.com
DTSTAMP:20160925T222742Z
DTSTART:20161008T220000Z
DTEND:20161009T030000Z
SUMMARY:Craft Markets- Mornington Racecourse 
GEO:-38.237137;145.06677
LOCATION:Mornington Racecourse Market\, Racecourse Road\, Mornington\, VIC\
 , 3931\, Australia
END:VEVENT
END:VCALENDAR
