BEGIN:VCALENDAR
VERSION:2.0
PRODID:-//Squarespace Inc/Squarespace 6//v6//EN
BEGIN:VEVENT
UID:57e85becbe6594ead4a00c3b@squarespace.com
DTSTAMP:20160925T232208Z
DTSTART:20161115T233000Z
DTEND:20161116T063000Z
SUMMARY:Ladbrokes Park Race Day
GEO:-37.9442;145.168379
LOCATION:Sandown Racecourse\, 591-659 Princes Highway\, Springvale\, VIC\, 
 3171\, Australia
END:VEVENT
END:VCALENDAR
