BEGIN:VCALENDAR
VERSION:2.0
PRODID:-//Squarespace Inc/Squarespace 6//v6//EN
BEGIN:VEVENT
UID:57e85c2d6b8f5b92616f43e7@squarespace.com
DTSTAMP:20160925T232343Z
DTSTART:20161122T233000Z
DTEND:20161123T063000Z
SUMMARY:Ladbrokes Park Race Day
GEO:-37.9442;145.168379
LOCATION:Sandown Racecourse\, 591-659 Princes Highway\, Springvale\, VIC\, 
 3171\, Australia
END:VEVENT
END:VCALENDAR
