BEGIN:VCALENDAR
VERSION:2.0
PRODID:-//Squarespace Inc/Squarespace 6//v6//EN
BEGIN:VEVENT
UID:570f2040746fb987f51002e4@squarespace.com
DTSTAMP:20160925T223317Z
DTSTART:20170407T230000Z
DTEND:20170408T072959Z
SUMMARY:City of Belmont Community Day\, Ascot Racecourse\, Perth\, WA\, Aus
 tralia
GEO:-31.938954;115.924065
LOCATION:Ascot Racecourse\, 71 Grandstand Road\, Ascot\, WA\, 6104\, Austra
 lia
END:VEVENT
END:VCALENDAR
