BEGIN:VCALENDAR
VERSION:2.0
PRODID:-//Squarespace Inc/Squarespace 6//v6//EN
BEGIN:VEVENT
UID:570f21b2b6aa6082e4617a77@squarespace.com
DTSTAMP:20160925T223243Z
DTSTART:20170414T230000Z
DTEND:20170415T072959Z
SUMMARY:Schweppes WATC Derby Day\, Ascot Racecourse\, Perth\, WA\, Australi
 a
GEO:-31.938954;115.924065
LOCATION:Ascot Racecouse\, 71 Grandstand Road\, Ascot\, WA\, 6104\, Austral
 ia
END:VEVENT
END:VCALENDAR
