BEGIN:VCALENDAR
VERSION:2.0
PRODID:-//Squarespace Inc/Squarespace 6//v6//EN
BEGIN:VEVENT
UID:570f1f72c2ea51195719d9d2@squarespace.com
DTSTAMP:20160925T223403Z
DTSTART:20170331T220000Z
DTEND:20170401T062959Z
SUMMARY:Amelia Park\, Karrakatta Plate Day\, Ascot Racecourse\, Perth\, WA\
 , Australia
GEO:-31.938954;115.924065
LOCATION:Ascot Racecourse\, 71 Grandstand Road\, Ascot\, WA\, 6104\, Austra
 lia
END:VEVENT
END:VCALENDAR
