BEGIN:VCALENDAR
VERSION:2.0
PRODID:-//Squarespace Inc/Squarespace 6//v6//EN
BEGIN:VEVENT
UID:5722c6424d088e4abb50631b@squarespace.com
DTSTAMP:20160925T222931Z
DTSTART:20170618T000000Z
DTEND:20170618T065959Z
SUMMARY:Royal Ascot Races - Day 5 
GEO:51.411048;-0.673649
LOCATION:Ascot Racecourse\, Ascot\, Berkshire SL5 7JX
END:VEVENT
END:VCALENDAR
