BEGIN:VCALENDAR
VERSION:2.0
PRODID:-//Squarespace Inc/Squarespace 6//v6//EN
BEGIN:VEVENT
UID:5732a9aad51cd4ba6f5956b5@squarespace.com
DTSTAMP:20160925T223349Z
DTSTART:20170406T003000Z
DTEND:20170406T073000Z
SUMMARY:Grand Opening Day - Grand National
GEO:53.481016;-2.952757
LOCATION:Aintree Racecourse\, Ormskirk Road\, Liverpool\, L9 5AS\, United K
 ingdom
END:VEVENT
END:VCALENDAR
