BEGIN:VCALENDAR
VERSION:2.0
PRODID:-//Squarespace Inc/Squarespace 6//v6//EN
BEGIN:VEVENT
UID:5732aaa05559861f717c6211@squarespace.com
DTSTAMP:20160925T223336Z
DTSTART:20170407T003000Z
DTEND:20170407T073000Z
SUMMARY:Ladies Day - Fabulous Friday - The Grand National
GEO:53.481016;-2.952757
LOCATION:Aintree Racecourse\, Ormskirk Rd\, Liverpool L9 5AS\, United Kingd
 om
END:VEVENT
END:VCALENDAR
