BEGIN:VCALENDAR
VERSION:2.0
PRODID:-//Squarespace Inc/Squarespace 6//v6//EN
BEGIN:VEVENT
UID:5732aaf9746fb99db8cc7c55@squarespace.com
DTSTAMP:20160925T223259Z
DTSTART:20170408T003000Z
DTEND:20170408T073000Z
SUMMARY:Grand National Day
GEO:53.481016;-2.952757
LOCATION:Aintree Racecourse\, Ormskirk Road\, Liverpool\, L9 5AS\, United K
 ingdom
END:VEVENT
END:VCALENDAR
