BEGIN:VCALENDAR
VERSION:2.0
PRODID:-//Squarespace Inc/Squarespace 6//v6//EN
BEGIN:VEVENT
UID:5722bcd2f699bb5ad63724bb@squarespace.com
DTSTAMP:20160925T223157Z
DTSTART:20170513T000000Z
DTEND:20170513T065959Z
SUMMARY:UBET BTC Cup Day
GEO:-27.428679;153.07409
LOCATION:Doomben Racecourse\, 75 Hampden Street\, Ascot\, QLD\, 4007\, Aust
 ralia
END:VEVENT
END:VCALENDAR
