BEGIN:VCALENDAR
VERSION:2.0
PRODID:-//Squarespace Inc/Squarespace 6//v6//EN
BEGIN:VEVENT
UID:5722bdffd51cd4d11675a1ca@squarespace.com
DTSTAMP:20160925T223144Z
DTSTART:20170519T233000Z
DTEND:20170520T065959Z
SUMMARY:Hardy Brothers Doomben Cup Day
GEO:-27.429035;153.066323
LOCATION:Eagle Farm Racecourse\, 230 Lancaster Road\, Ascot\, QLD\, 4007\, 
 Australia
END:VEVENT
END:VCALENDAR
