BEGIN:VCALENDAR
VERSION:2.0
PRODID:-//Squarespace Inc/Squarespace 6//v6//EN
BEGIN:VEVENT
UID:5722beb0a3360ce7508adf81@squarespace.com
DTSTAMP:20160925T223130Z
DTSTART:20170527T000000Z
DTEND:20170527T065959Z
SUMMARY:James Boag’s Premium Doomben 10\,000 Day
GEO:-27.428679;153.07409
LOCATION:Doomben Racecourse\, 75 Hampden Street\, Ascot\, QLD\, 4007\, Aust
 ralia
END:VEVENT
END:VCALENDAR
