BEGIN:VCALENDAR
VERSION:2.0
PRODID:-//Squarespace Inc/Squarespace 6//v6//EN
BEGIN:VEVENT
UID:5722bfb8859fd0c265da143b@squarespace.com
DTSTAMP:20160925T223057Z
DTSTART:20170609T233000Z
DTEND:20170610T065959Z
SUMMARY:AAMI Stradbroke Day
GEO:-27.429035;153.066323
LOCATION:Eagle Farm Racecourse\, 230 Lancaster Road\, Ascot\, QLD\, 4007\, 
 Australia
END:VEVENT
END:VCALENDAR
