BEGIN:VCALENDAR
VERSION:2.0
PRODID:-//Squarespace Inc/Squarespace 6//v6//EN
BEGIN:VEVENT
UID:5722c177b09f951c90be8d5a@squarespace.com
DTSTAMP:20160925T223040Z
DTSTART:20170614T000000Z
DTEND:20170614T065959Z
SUMMARY:Royal Ascot Races - Day 1
GEO:51.411048;-0.673649
LOCATION:Ascot Racecourse\, Ascot\, Berkshire SL5 7JX\, United Kingdom
END:VEVENT
END:VCALENDAR
