BEGIN:VCALENDAR
VERSION:2.0
PRODID:-//Squarespace Inc/Squarespace 6//v6//EN
BEGIN:VEVENT
UID:5722c70ac6fc08d72007f703@squarespace.com
DTSTAMP:20160925T222910Z
DTSTART:20170708T010000Z
DTEND:20170708T075959Z
SUMMARY:Property Raceday
GEO:51.411048;-0.673649
LOCATION:Ascot Racecourse\, Ascot\, Berkshire SL5 7JX\, UK
END:VEVENT
END:VCALENDAR
