BEGIN:VCALENDAR
VERSION:2.0
PRODID:-//Squarespace Inc/Squarespace 6//v6//EN
BEGIN:VEVENT
UID:57e84d50bebafba4112f2d77@squarespace.com
DTSTAMP:20160925T222718Z
DTSTART:20161001T220000Z
DTEND:20161002T030000Z
SUMMARY:Craft Markets - Yarra Glen Racecourse
GEO:-37.655844;145.380269
LOCATION:Yarra Glen Racecourse Market\, Armstrong Grove\, Yarra Glen\, VIC\
 , 3775\, Australia
END:VEVENT
END:VCALENDAR
