BEGIN:VCALENDAR
VERSION:2.0
PRODID:-//Squarespace Inc/Squarespace 6//v6//EN
BEGIN:VEVENT
UID:5a7b7255e4966b41e2be0aac@squarespace.com
DTSTAMP:20180207T214218Z
DTSTART:20180112T220000Z
DTEND:20180113T063000Z
SUMMARY:Magic Millions Raceday
GEO:-28.003215;153.405094
LOCATION:Gold Coast Turf Club Racecourse Dr\, Bundall QLD  Gold Coast\,Quee
 nsland4217Australia
END:VEVENT
END:VCALENDAR
