BEGIN:VCALENDAR
VERSION:2.0
PRODID:-//Squarespace Inc/Squarespace 6//v6//EN
BEGIN:VEVENT
UID:5a7b6f26e4966b41e2bcdfe6@squarespace.com
DTSTAMP:20180207T213947Z
DTSTART:20180127T210000Z
DTEND:20180128T060000Z
SUMMARY:The 2018 Hobart Guineas Family Day
GEO:-42.823844;147.287475
LOCATION:6 Goodwood Rd\, Glenorchy TAS 7010\, Australia
END:VEVENT
END:VCALENDAR
