BEGIN:VCALENDAR
VERSION:2.0
PRODID:-//Squarespace Inc/Squarespace 6//v6//EN
BEGIN:VEVENT
UID:5a7b715c652deaeeaa31b3d1@squarespace.com
DTSTAMP:20180207T213806Z
DTSTART:20180210T230000Z
DTEND:20180211T060000Z
SUMMARY:The 2018 Sky Racing Hobart Cup
GEO:-42.823844;147.287475
LOCATION:6 Goodwood Rd\, Glenorchy TAS 7010\, Australia
END:VEVENT
END:VCALENDAR
