BEGIN:VCALENDAR
VERSION:2.0
PRODID:-//Squarespace Inc/Squarespace 6//v6//EN
BEGIN:VEVENT
UID:5a7b7328c830258a6afc2886@squarespace.com
DTSTAMP:20180207T214541Z
DTSTART:20180214T060000Z
DTEND:20180214T110000Z
SUMMARY:2018 Magic Millions Race Night
GEO:-41.40393;147.135168
LOCATION:Jellico St\, Mowbray TAS 7248\, Australia
END:VEVENT
END:VCALENDAR
