BEGIN:VCALENDAR
VERSION:2.0
PRODID:-//Squarespace Inc/Squarespace 6//v6//EN
BEGIN:VEVENT
UID:5a7b739b9140b79bd69bed01@squarespace.com
DTSTAMP:20180207T214834Z
DTSTART:20180227T230000Z
DTEND:20180228T060000Z
SUMMARY:The 2018 Sky Racing Launceston Cup
GEO:-41.40393;147.135168
LOCATION:Jellico St\, Mowbray TAS 7248\, Australia
END:VEVENT
END:VCALENDAR
