BEGIN:VCALENDAR
VERSION:2.0
PRODID:-//Squarespace Inc/Squarespace 6//v6//EN
BEGIN:VEVENT
UID:5a7b744c0d9297d743ccc831@squarespace.com
DTSTAMP:20180207T215517Z
DTSTART:20180225T000000Z
DTEND:20180225T070000Z
SUMMARY:The 2018 Tasmanian Oaks & Armidale Stud Vamos Stakes
GEO:-41.40393;147.135168
LOCATION:Jellico St\, Mowbray TAS 7248\, Australia
END:VEVENT
END:VCALENDAR
