BEGIN:VCALENDAR
VERSION:2.0
PRODID:-//Squarespace Inc/Squarespace 6//v6//EN
BEGIN:VEVENT
UID:5a7b7074c830258a6afb2dbe@squarespace.com
DTSTAMP:20180207T213424Z
DTSTART:20180209T020000Z
DTEND:20180209T070000Z
SUMMARY:The 2018 Schweppes Derby Day
GEO:-42.823844;147.287475
LOCATION:6 Goodwood Rd\, Glenorchy TAS 7010\, Australia
END:VEVENT
END:VCALENDAR
