BEGIN:VCALENDAR
VERSION:2.0
PRODID:-//Squarespace Inc/Squarespace 6//v6//EN
BEGIN:VEVENT
UID:5a7b75d79140b79bd69cb4d2@squarespace.com
DTSTAMP:20180207T220045Z
DTSTART:20180307T070000Z
DTEND:20180307T120000Z
SUMMARY:Sky Racing Australian Female Jockey Championship
GEO:-41.40393;147.135168
LOCATION:Jellico St\, Mowbray TAS 7248\, Australia
END:VEVENT
END:VCALENDAR
