BEGIN:VCALENDAR
VERSION:2.0
PRODID:-//Squarespace Inc/Squarespace 6//v6//EN
BEGIN:VEVENT
UID:5a7b82bf8165f513404494ce@squarespace.com
DTSTAMP:20180208T013916Z
DTSTART:20180518T230000Z
DTEND:20180519T090000Z
SUMMARY:The Preakness Stakes
GEO:39.353399;-76.673021
LOCATION:Pimlico Race Course\, Baltimore\, Maryland\, United States
END:VEVENT
END:VCALENDAR
