BEGIN:VCALENDAR
VERSION:2.0
PRODID:-//Squarespace Inc/Squarespace 6//v6//EN
BEGIN:VEVENT
UID:5a7baa619140b78624a43606@squarespace.com
DTSTAMP:20180208T014312Z
DTSTART:20180609T000000Z
DTEND:20180609T080000Z
SUMMARY:Belmont Stakes - Elmont\, New York
GEO:40.709278;-73.721363
LOCATION:Belmont Park\, New York\, United States
END:VEVENT
END:VCALENDAR
